BEGIN:VCALENDAR
VERSION:2.0
PRODID:-//Creative Saskatchewan - ECPv6.15.18//NONSGML v1.0//EN
CALSCALE:GREGORIAN
METHOD:PUBLISH
X-ORIGINAL-URL:https://www.creativesask.ca
X-WR-CALDESC:Events for Creative Saskatchewan
REFRESH-INTERVAL;VALUE=DURATION:PT1H
X-Robots-Tag:noindex
X-PUBLISHED-TTL:PT1H
BEGIN:VTIMEZONE
TZID:America/Regina
BEGIN:STANDARD
TZOFFSETFROM:-0600
TZOFFSETTO:-0600
TZNAME:CST
DTSTART:20250101T000000
END:STANDARD
END:VTIMEZONE
BEGIN:VEVENT
DTSTART;TZID=America/Regina:20260902T000000
DTEND;TZID=America/Regina:20260902T160000
DTSTAMP:20260421T142757
CREATED:20260413T190206Z
LAST-MODIFIED:20260413T190206Z
UID:10000174-1788307200-1788364800@www.creativesask.ca
SUMMARY:Book Publishing Grant -  Market Demand Reprint Stream Deadline #1
DESCRIPTION:Book Publishing Grant\nWe offer two streams of funding depending on the nature of the project – Book Publishers’ Stream and Author-Funded Stream. \nAuthor-Funded Stream\nThis grant supports self-publishers or publishers working with Saskatchewan authors to produce and market a book. \n\nOpening date: April 29\, 2026\nDeadline: June 3\, 2026 at 4 PM SK time\n\nBook Publishers’ Stream\nThis grant assists in the production and marketing of titles intended for commercial release. \n\nOpening date: April 29\, 2026\nDeadline: June 10\, 2026 at 4 PM SK time\n\nMarket Demand Reprint Stream\nThis grant assists book publishers and self-publishers in accessing high-demand reprint production funds to meet market demand. \n\nOpening date: June 17\, 2026\nDeadline 1: September 2\, 2026 at 4 PM SK time\nDeadline 2: January 27\, 2027 at 4 PM SK time\n\nLearn More
URL:https://www.creativesask.ca/calendar/book-publishing-grant-market-demand-reprint-stream-deadline-1/
CATEGORIES:Book Publishing Production
END:VEVENT
END:VCALENDAR