BEGIN:VCALENDAR
VERSION:2.0
PRODID:-//Creative Saskatchewan - ECPv6.15.18//NONSGML v1.0//EN
CALSCALE:GREGORIAN
METHOD:PUBLISH
X-WR-CALNAME:Creative Saskatchewan
X-ORIGINAL-URL:https://www.creativesask.ca
X-WR-CALDESC:Events for Creative Saskatchewan
REFRESH-INTERVAL;VALUE=DURATION:PT1H
X-Robots-Tag:noindex
X-PUBLISHED-TTL:PT1H
BEGIN:VTIMEZONE
TZID:America/Regina
BEGIN:STANDARD
TZOFFSETFROM:-0600
TZOFFSETTO:-0600
TZNAME:CST
DTSTART:20250101T000000
END:STANDARD
END:VTIMEZONE
BEGIN:VEVENT
DTSTART;VALUE=DATE:20260422
DTEND;VALUE=DATE:20260423
DTSTAMP:20260421T071028
CREATED:20250407T171309Z
LAST-MODIFIED:20260413T191001Z
UID:10000137-1776816000-1776902399@www.creativesask.ca
SUMMARY:Showcase or Sell Travel Grant - Open for Applications
DESCRIPTION:Showcase or Sell Travel Grant\nThis grant provides support to individuals and businesses to attend markets\, industry showcases\, and pitch events. In most cases\, your project begins with an invitation to participate in a particular market. \n\nOpening date: April 22\, 2026\nDeadlines: Continuous intake until funds are exhausted\n\nLearn More
URL:https://www.creativesask.ca/calendar/showcase-or-sell-travel-grant-open-for-applications/
CATEGORIES:Book Publishing Production,Craft & Visual Art Production,Digital Game Development,Film,Live Performing Arts Production,Multi-Sector Grants,Music,Showcase or Sell Travel
END:VEVENT
BEGIN:VEVENT
DTSTART;VALUE=DATE:20260422
DTEND;VALUE=DATE:20260423
DTSTAMP:20260421T071028
CREATED:20250422T165803Z
LAST-MODIFIED:20260413T190927Z
UID:10000122-1776816000-1776902399@www.creativesask.ca
SUMMARY:Marketing Grant Open for Applications - Micro and Major Streams
DESCRIPTION:Marketing Grant\nThis grant provides support for marketing and publicity to improve visibility and generate sales. We offer two streams of funding depending of the scale of the project; Micro and Major. \nMicro Stream \n\nUp to a maximum of $5\,000 per applicant per fiscal year (or 50% of the budget whichever is the lesser).\nClients are limited to one micro grant per fiscal year. This amount counts towards an annual marketing cap of $25\,000 per fiscal year.\n\nMicro Stream Opening Dates for all sectors: April 22\, 2026 \nMicro Stream Deadlines to apply: \n\nDeadline 1 – July 15\, 2026 at 4 PM SK time\nDeadline 2 – October 7\, 2026 at 4 PM SK time\nDeadline 3 – January 6\, 2027 at 4 PM SK time\n\nMajor Stream \n\nUp to a maximum of $25\,000 per applicant per fiscal year (or 50% of the budget whichever is the lesser).\n\nMajor Stream Opening Dates for all applicable sectors: April 22\, 2026 \nMajor Stream Deadlines to apply: \n\nBook Publishing – June 10\, 2026 at 4PM SK time\nLive Performing Arts – June 24\, 2026 at 4 PM SK time\nDigital Games – November 18\, 2026 at 4PM SK time\nMusic – June 17\, 2026 at 4PM SK time\nCraft & Visual Arts – February 3\, 2027 at 4PM SK time\n\nFilm: Following consultations with our clients and industry stakeholders\, we decided that increasing funding for film development activities would best support the sector at this time. To accommodate this\, the Marketing Grant for the film sector will be paused this year. As funding becomes available throughout our fiscal year we may reconsider offering an intake of this grant. \nLearn More
URL:https://www.creativesask.ca/calendar/marketing-grant-open-for-applications-micro-and-major-streams/
CATEGORIES:Book Publishing Production,Craft & Visual Art Production,Digital Game Development,Film,Live Performing Arts Production,Marketing,Multi-Sector Grants,Music
ATTACH;FMTTYPE=image/png:https://www.creativesask.ca/wp-content/uploads/2025/03/Grant-Program-Dates-2.png
END:VEVENT
BEGIN:VEVENT
DTSTART;VALUE=DATE:20260429
DTEND;VALUE=DATE:20260430
DTSTAMP:20260421T071028
CREATED:20250407T172146Z
LAST-MODIFIED:20260413T190730Z
UID:10000146-1777420800-1777507199@www.creativesask.ca
SUMMARY:Book Publishing Grant - Open for Applications - Author-Funded and Book Publisher's Streams
DESCRIPTION:Book Publishing Grant\nWe offer two streams of funding depending on the nature of the project – Book Publishers’ Stream and Author-Funded Stream. \nAuthor-Funded Stream\nThis grant supports self-publishers or publishers working with Saskatchewan authors to produce and market a book. \n\nOpening date: April 29\, 2026\nDeadline: June 3\, 2026 at 4 PM SK time\n\nBook Publishers’ Stream\nThis grant assists in the production and marketing of titles intended for commercial release. \n\nOpening date: April 29\, 2026\nDeadline: June 10\, 2026 at 4 PM SK time\n\nMarket Demand Reprint Stream\nThis grant assists book publishers and self-publishers in accessing high-demand reprint production funds to meet market demand. \n\nOpening date: June 17\, 2026\nDeadline 1: September 2\, 2026 at 4 PM SK time\nDeadline 2: January 27\, 2027 at 4 PM SK time\n\nLearn More
URL:https://www.creativesask.ca/calendar/book-publishing-grant-open-for-applications-author-funded-and-book-publishers-streams/
CATEGORIES:Book Publishing Production
END:VEVENT
END:VCALENDAR