BEGIN:VCALENDAR
VERSION:2.0
PRODID:-//Creative Saskatchewan - ECPv6.15.18//NONSGML v1.0//EN
CALSCALE:GREGORIAN
METHOD:PUBLISH
X-WR-CALNAME:Creative Saskatchewan
X-ORIGINAL-URL:https://www.creativesask.ca
X-WR-CALDESC:Events for Creative Saskatchewan
REFRESH-INTERVAL;VALUE=DURATION:PT1H
X-Robots-Tag:noindex
X-PUBLISHED-TTL:PT1H
BEGIN:VTIMEZONE
TZID:America/Regina
BEGIN:STANDARD
TZOFFSETFROM:-0600
TZOFFSETTO:-0600
TZNAME:CST
DTSTART:20250101T000000
END:STANDARD
END:VTIMEZONE
BEGIN:VEVENT
DTSTART;TZID=America/Regina:20261118T000000
DTEND;TZID=America/Regina:20261118T160000
DTSTAMP:20260421T155615
CREATED:20250407T173044Z
LAST-MODIFIED:20260413T190132Z
UID:10000155-1794960000-1795017600@www.creativesask.ca
SUMMARY:Digital Game Development Grant - Deadline
DESCRIPTION:Digital Game Development Grant\nThis grant invests in Saskatchewan’s digital developers\, helping them create digital games and gamified e-learning projects with commercial potential. We now offer two streams of funding for this grant – the Pre-Production Stream and the Production Stream. \n\nOpening date: May 20\, 2026\nDeadline:  November 18\, 2026 at 4 PM SK time\n\nLearn More
URL:https://www.creativesask.ca/calendar/digital-game-development-grant-deadline/
CATEGORIES:Digital Game Development
END:VEVENT
BEGIN:VEVENT
DTSTART;TZID=America/Regina:20261118T080000
DTEND;TZID=America/Regina:20261118T160000
DTSTAMP:20260421T155615
CREATED:20250407T172005Z
LAST-MODIFIED:20260413T190127Z
UID:10000145-1794988800-1795017600@www.creativesask.ca
SUMMARY:Business Improvement Grant - Digital Game Development Deadline
DESCRIPTION:Business Improvement Grant\nThis grant supports projects that focus on professional development\, increasing workforce capacity\, and improving business efficiencies through technology infrastructure updates which result in growth\, market expansion and improved profitability. \nOpening Dates for applicable sectors: April 22\, 2026 \n\nDeadlines to apply:\n\nBook Publishing – June 10\, 2026 at 4PM SK time\nMusic – September 23\, 2026 at 4PM SK time\nDigital Games – November 18\, 2026 at 4PM SK time\nCraft & Visual Arts – February 3\, 2027 at 4PM SK time\n\n\n\nFilm: The Business Improvement Grant for the film sector will be paused this year to offer additional funding into other grant programs. \nLive Performing Arts: The Business Improvement Grant for the live performing arts sector will be paused this year to offer additional funding into other grant programs. \nLearn More
URL:https://www.creativesask.ca/calendar/business-improvement-grant-interactive-digital-deadline/
CATEGORIES:Business Improvement,Digital Game Development
END:VEVENT
END:VCALENDAR