BEGIN:VCALENDAR
VERSION:2.0
PRODID:-//Creative Saskatchewan - ECPv6.15.18//NONSGML v1.0//EN
CALSCALE:GREGORIAN
METHOD:PUBLISH
X-ORIGINAL-URL:https://www.creativesask.ca
X-WR-CALDESC:Events for Creative Saskatchewan
REFRESH-INTERVAL;VALUE=DURATION:PT1H
X-Robots-Tag:noindex
X-PUBLISHED-TTL:PT1H
BEGIN:VTIMEZONE
TZID:America/Regina
BEGIN:STANDARD
TZOFFSETFROM:-0600
TZOFFSETTO:-0600
TZNAME:CST
DTSTART:20260101T000000
END:STANDARD
END:VTIMEZONE
BEGIN:VEVENT
DTSTART;TZID=America/Regina:20270106T070000
DTEND;TZID=America/Regina:20270106T160000
DTSTAMP:20260421T211421
CREATED:20250407T171156Z
LAST-MODIFIED:20260413T190107Z
UID:10000136-1799218800-1799251200@www.creativesask.ca
SUMMARY:Marketing - Micro Stream Deadline #3
DESCRIPTION:Marketing Grant\nThis grant provides support for marketing and publicity to improve visibility and generate sales. We offer two streams of funding depending of the scale of the project; Micro and Major. \nMicro Stream\nUp to a maximum of $5\,000 per applicant per fiscal year (or 50% of the budget whichever is the lesser). \nClients are limited to one micro grant per fiscal year. This amount counts towards an annual marketing cap of $25\,000 per fiscal year. \nMicro Stream Deadlines to apply: \n\nDeadline 1 – July 15\, 2026 at 4 PM SK time\nDeadline 2 – October 7\, 2026 at 4 PM SK time\nDeadline 3 – January 6\, 2027 at 4 PM SK time\n\nLearn More
URL:https://www.creativesask.ca/calendar/marketing-micro-stream-deadline-3-2/
CATEGORIES:Book Publishing Production,Craft & Visual Art Production,Digital Game Development,Film,Live Performing Arts Production,Marketing,Multi-Sector Grants,Music
END:VEVENT
BEGIN:VEVENT
DTSTART;TZID=America/Regina:20270113T000000
DTEND;TZID=America/Regina:20270113T160000
DTSTAMP:20260421T211421
CREATED:20250407T171712Z
LAST-MODIFIED:20260413T190053Z
UID:10000141-1799798400-1799856000@www.creativesask.ca
SUMMARY:Tour Support Grant - Deadline #3
DESCRIPTION:Tour Support Grant\nThis grant supports commercially viable touring opportunities for eligible Saskatchewan musicians touring in Canada and abroad. Please note that the Live Performing Arts stream of this grant has been absorbed into the Live Performing Arts Production and Performance grant. \nOpening date: May 6\, 2026 \nDeadlines to apply: \n\nDeadline 1 – June 17. 2026 at 4 PM SK time\nDeadline 2 – September 23. 2026 at 4 PM SK time\nDeadline 3 – January 13\, 2027 at 4 PM SK Time\n\n\nLearn More
URL:https://www.creativesask.ca/calendar/tour-support-grant-deadline-3/
CATEGORIES:Music,Tour Support
END:VEVENT
END:VCALENDAR