BEGIN:VCALENDAR
VERSION:2.0
PRODID:-//Creative Saskatchewan - ECPv6.15.18//NONSGML v1.0//EN
CALSCALE:GREGORIAN
METHOD:PUBLISH
X-ORIGINAL-URL:https://www.creativesask.ca
X-WR-CALDESC:Events for Creative Saskatchewan
REFRESH-INTERVAL;VALUE=DURATION:PT1H
X-Robots-Tag:noindex
X-PUBLISHED-TTL:PT1H
BEGIN:VTIMEZONE
TZID:America/Regina
BEGIN:STANDARD
TZOFFSETFROM:-0600
TZOFFSETTO:-0600
TZNAME:CST
DTSTART:20260101T000000
END:STANDARD
END:VTIMEZONE
BEGIN:VEVENT
DTSTART;TZID=America/Regina:20270203T080000
DTEND;TZID=America/Regina:20270203T160000
DTSTAMP:20260422T083428
CREATED:20250407T170422Z
LAST-MODIFIED:20260413T185942Z
UID:10000128-1801641600-1801670400@www.creativesask.ca
SUMMARY:Marketing - Major Stream - Craft & Visual Arts Deadline
DESCRIPTION:Major Stream\nUp to a maximum of $25\,000 per applicant per fiscal year or 50% of the budget\, whichever is the lesser. \nMajor Stream Opening Date for all applicable sectors: April 22\, 2026 \nMajor Stream Deadlines to apply: \n\nBook Publishing – June 10\, 2026 at 4PM SK time\nLive Performing Arts – June 24\, 2026 at 4 PM SK time\nDigital Games – November 18\, 2026 at 4PM SK time\nMusic – June 17\, 2026 at 4PM SK time\nCraft & Visual Arts – February 3\, 2027 at 4PM SK time\n\n\nLearn More
URL:https://www.creativesask.ca/calendar/marketing-major-stream-craft-visual-arts-deadline/
CATEGORIES:Craft & Visual Art Production,Marketing
END:VEVENT
END:VCALENDAR