BEGIN:VCALENDAR
VERSION:2.0
PRODID:-//Creative Saskatchewan - ECPv6.15.18//NONSGML v1.0//EN
CALSCALE:GREGORIAN
METHOD:PUBLISH
X-WR-CALNAME:Creative Saskatchewan
X-ORIGINAL-URL:https://www.creativesask.ca
X-WR-CALDESC:Events for Creative Saskatchewan
REFRESH-INTERVAL;VALUE=DURATION:PT1H
X-Robots-Tag:noindex
X-PUBLISHED-TTL:PT1H
BEGIN:VTIMEZONE
TZID:America/Regina
BEGIN:STANDARD
TZOFFSETFROM:-0600
TZOFFSETTO:-0600
TZNAME:CST
DTSTART:20250101T000000
END:STANDARD
END:VTIMEZONE
BEGIN:VEVENT
DTSTART;VALUE=DATE:20260506
DTEND;VALUE=DATE:20260507
DTSTAMP:20260421T082020
CREATED:20250407T171418Z
LAST-MODIFIED:20260413T190721Z
UID:10000138-1778025600-1778111999@www.creativesask.ca
SUMMARY:Tour Support Grant - Open for Applications
DESCRIPTION:Tour Support Grant\nThis grant supports commercially viable touring opportunities for eligible Saskatchewan musicians touring in Canada and abroad. Please note that the Live Performing Arts stream of this grant has been absorbed into the Live Performing Arts Production and Performance grant. \nOpening date: May 6\, 2026 \nDeadlines to apply: \n\nDeadline 1 – June 17. 2026 at 4 PM SK time\nDeadline 2 – September 23. 2026 at 4 PM SK time\nDeadline 3 – January 13\, 2027 at 4 PM SK Time\n\n\nLearn More
URL:https://www.creativesask.ca/calendar/tour-support-grant-open-for-applications/
CATEGORIES:Music,Tour Support
END:VEVENT
END:VCALENDAR