BEGIN:VCALENDAR
VERSION:2.0
PRODID:-//Creative Saskatchewan - ECPv6.15.18//NONSGML v1.0//EN
CALSCALE:GREGORIAN
METHOD:PUBLISH
X-WR-CALNAME:Creative Saskatchewan
X-ORIGINAL-URL:https://www.creativesask.ca
X-WR-CALDESC:Events for Creative Saskatchewan
REFRESH-INTERVAL;VALUE=DURATION:PT1H
X-Robots-Tag:noindex
X-PUBLISHED-TTL:PT1H
BEGIN:VTIMEZONE
TZID:America/Regina
BEGIN:STANDARD
TZOFFSETFROM:-0600
TZOFFSETTO:-0600
TZNAME:CST
DTSTART:20250101T000000
END:STANDARD
END:VTIMEZONE
BEGIN:VEVENT
DTSTART;TZID=America/Regina:20260923T000000
DTEND;TZID=America/Regina:20260923T160000
DTSTAMP:20260421T111206
CREATED:20250407T171606Z
LAST-MODIFIED:20260413T190642Z
UID:10000140-1790121600-1790179200@www.creativesask.ca
SUMMARY:Tour Support Grant - Deadline #2
DESCRIPTION:Tour Support Grant\nThis grant supports commercially viable touring opportunities for eligible Saskatchewan musicians touring in Canada and abroad. Please note that the Live Performing Arts stream of this grant has been absorbed into the Live Performing Arts Production and Performance grant. \nOpening date: May 6\, 2026 \nDeadlines to apply: \n\nDeadline 1 – June 17. 2026 at 4 PM SK time\nDeadline 2 – September 23. 2026 at 4 PM SK time\nDeadline 3 – January 13\, 2027 at 4 PM SK Time\n\n\nLearn More
URL:https://www.creativesask.ca/calendar/tour-support-grant-deadline-2/
CATEGORIES:Music,Tour Support
END:VEVENT
BEGIN:VEVENT
DTSTART;TZID=America/Regina:20260923T000000
DTEND;TZID=America/Regina:20260923T160000
DTSTAMP:20260421T111206
CREATED:20250407T173242Z
LAST-MODIFIED:20260413T190200Z
UID:10000158-1790121600-1790179200@www.creativesask.ca
SUMMARY:Sound Recording Grant - Deadline #2
DESCRIPTION:Sound Recording Grant\nThis grant supports the production of commercially-viable sound recordings for promotional use and/or commercial release. \n\n\n\nOpening date: May 6\, 2026\nDeadline 1:  June 17\, 2026 at 4 PM SK time\nDeadline 2: September 23\, 2026 at 4 PM SK time\nDeadline 3: January 13\, 2027 at 4 PM SK Time\n\n\n\nLearn More
URL:https://www.creativesask.ca/calendar/sound-recording-grant-deadline-2/
CATEGORIES:Music,Sound Recording
END:VEVENT
END:VCALENDAR