BEGIN:VCALENDAR
VERSION:2.0
PRODID:-//Creative Saskatchewan - ECPv6.15.18//NONSGML v1.0//EN
CALSCALE:GREGORIAN
METHOD:PUBLISH
X-WR-CALNAME:Creative Saskatchewan
X-ORIGINAL-URL:https://www.creativesask.ca
X-WR-CALDESC:Events for Creative Saskatchewan
REFRESH-INTERVAL;VALUE=DURATION:PT1H
X-Robots-Tag:noindex
X-PUBLISHED-TTL:PT1H
BEGIN:VTIMEZONE
TZID:America/Regina
BEGIN:STANDARD
TZOFFSETFROM:-0600
TZOFFSETTO:-0600
TZNAME:CST
DTSTART:20240101T000000
END:STANDARD
END:VTIMEZONE
BEGIN:VEVENT
DTSTART;VALUE=DATE:20260422
DTEND;VALUE=DATE:20260423
DTSTAMP:20260423T101939
CREATED:20250407T171309Z
LAST-MODIFIED:20260413T191001Z
UID:10000137-1776816000-1776902399@www.creativesask.ca
SUMMARY:Showcase or Sell Travel Grant - Open for Applications
DESCRIPTION:Showcase or Sell Travel Grant\nThis grant provides support to individuals and businesses to attend markets\, industry showcases\, and pitch events. In most cases\, your project begins with an invitation to participate in a particular market. \n\nOpening date: April 22\, 2026\nDeadlines: Continuous intake until funds are exhausted\n\nLearn More
URL:https://www.creativesask.ca/calendar/showcase-or-sell-travel-grant-open-for-applications/
CATEGORIES:Book Publishing Production,Craft & Visual Art Production,Digital Game Development,Film,Live Performing Arts Production,Multi-Sector Grants,Music,Showcase or Sell Travel
END:VEVENT
BEGIN:VEVENT
DTSTART;VALUE=DATE:20260401
DTEND;VALUE=DATE:20260402
DTSTAMP:20260423T101939
CREATED:20250407T173350Z
LAST-MODIFIED:20260413T191017Z
UID:10000160-1775001600-1775087999@www.creativesask.ca
SUMMARY:Feature Film & TV Production Grant - Open for Applications
DESCRIPTION:Feature Film & TV Production Grant\nThis grant provides financial support to eligible applicants for feature film and television productions that have secured a relevant market trigger or distribution agreement of fair market value. There are two streams within this grant: the Saskatchewan Stream and the Service Production Stream. \nOpening date: April 1\, 2026\nDeadline: Continuous intake until funding is exhausted \nLearn More
URL:https://www.creativesask.ca/calendar/feature-film-tv-production-grant-open-for-applications/
CATEGORIES:Feature Film & TV Production,Film
END:VEVENT
BEGIN:VEVENT
DTSTART;TZID=America/Regina:20251118T080000
DTEND;TZID=America/Regina:20251118T160000
DTSTAMP:20260423T101939
CREATED:20250407T170706Z
LAST-MODIFIED:20260413T191134Z
UID:10000131-1763452800-1763481600@www.creativesask.ca
SUMMARY:Marketing - Major Stream - Digital Game Development Deadline
DESCRIPTION:Major Stream\nUp to a maximum of $25\,000 per applicant per fiscal year or 50% of the budget\, whichever is the lesser. \nMajor Stream Opening Date for all applicable sectors: April 22\, 2026 \nMajor Stream Deadlines to apply: \n\nBook Publishing – June 10\, 2026 at 4PM SK time\nLive Performing Arts – June 24\, 2026 at 4 PM SK time\nDigital Games – November 18\, 2026 at 4PM SK time\nMusic – June 17\, 2026 at 4PM SK time\nCraft & Visual Arts – February 3\, 2027 at 4PM SK time\n\nFilm: Following consultations with our clients and industry stakeholders\, we decided that increasing funding for film development activities would best support the sector at this time. To accommodate this\, the Marketing Grant for the film sector will be paused this year. As funding becomes available throughout our fiscal year we may reconsider offering an intake of this grant. \nLearn More
URL:https://www.creativesask.ca/calendar/marketing-major-stream-interactive-digital-deadline/
CATEGORIES:Digital Game Development,Marketing
END:VEVENT
END:VCALENDAR